BEGIN:VCALENDAR
VERSION:2.0
PRODID:SchoolNow
CALSCALE:GREGORIAN
BEGIN:VEVENT
UID:0580e534-3c40-11f1-95ab-0a58a9feac02
DTSTAMP:20260421T110509Z
SUMMARY:MBB
URL;VALUE=URI:https://www.lafargevillecsd.org/calendar/9005673/mbb
DTSTART:20260420T223000Z
DTEND:20260421T233000Z
END:VEVENT
END:VCALENDAR
