BEGIN:VCALENDAR
VERSION:2.0
PRODID:SchoolNow
CALSCALE:GREGORIAN
BEGIN:VEVENT
UID:50cd4a22-3679-11f1-8703-0268d6255e89
DTSTAMP:20260421T050009Z
SUMMARY:Golf
URL;VALUE=URI:https://www.lafargevillecsd.org/calendar/8988841/golf
DTSTART:20260415T191500Z
DTEND:20260415T201500Z
END:VEVENT
END:VCALENDAR
